BEGIN:VCALENDAR
VERSION:2.0
PRODID:-//Skip Ink - ECPv6.6.4.2//NONSGML v1.0//EN
CALSCALE:GREGORIAN
METHOD:PUBLISH
X-WR-CALNAME:Skip Ink
X-ORIGINAL-URL:https://www.skip.co.nz
X-WR-CALDESC:Events for Skip Ink
REFRESH-INTERVAL;VALUE=DURATION:PT1H
X-Robots-Tag:noindex
X-PUBLISHED-TTL:PT1H
BEGIN:VTIMEZONE
TZID:Pacific/Auckland
BEGIN:STANDARD
TZOFFSETFROM:+1300
TZOFFSETTO:+1200
TZNAME:NZST
DTSTART:20180331T140000
END:STANDARD
BEGIN:DAYLIGHT
TZOFFSETFROM:+1200
TZOFFSETTO:+1300
TZNAME:NZDT
DTSTART:20180929T140000
END:DAYLIGHT
END:VTIMEZONE
BEGIN:VEVENT
DTSTART;TZID=Pacific/Auckland:20180830T193000
DTEND;TZID=Pacific/Auckland:20180830T220000
DTSTAMP:20260424T235311
CREATED:20180525T010545Z
LAST-MODIFIED:20180607T055316Z
UID:36-1535657400-1535666400@www.skip.co.nz
SUMMARY:An Evening With Jane Fonda
DESCRIPTION:A once-in-a-lifetime audience with one of the most recognizable women of our generation.
URL:https://www.skip.co.nz/event/an-evening-with-jane-fonda/
ATTACH;FMTTYPE=image/png:https://www.skip.co.nz/wp-content/uploads/2018/06/Screenshot-416.png
END:VEVENT
END:VCALENDAR