BEGIN:VCALENDAR
VERSION:2.0
PRODID:-//Skip Ink - ECPv4.6.16//NONSGML v1.0//EN
CALSCALE:GREGORIAN
METHOD:PUBLISH
X-WR-CALNAME:Skip Ink
X-ORIGINAL-URL:https://www.skip.co.nz
X-WR-CALDESC:Events for Skip Ink
BEGIN:VEVENT
DTSTART;TZID=Pacific/Auckland:20190214T193000
DTEND;TZID=Pacific/Auckland:20190217T203000
DTSTAMP:20181224T084625
CREATED:20180712T230135Z
LAST-MODIFIED:20180712T230441Z
UID:462-1550172600-1550435400@www.skip.co.nz
SUMMARY:Madiba the musical - a celebration of Nelson Mandela's life
DESCRIPTION:Revolutionary leader Nelson Mandela – known by his tribe as Madiba – would have been 100 this year. In celebration of his birthday and his legacy\, a compelling new stage show Madiba the Musical – a Celebration of Nelson Mandela is coming to  New Zealand.\nBeginning its world tour in France and soon to arrive in Australia\, this international production is interwoven with stories of the fight against apartheid and forbidden love in a troubled land. The musical pays tribute to New Zealand and the dramatic part it played in bringing an end to apartheid.\nAlso timed to mark 25 years since the abolition of apartheid in South Africa\, Madiba the Musical features African dance and vocal traditions set alongside eternal love songs and stirring anthems in a show that tells of Mandela’s lifework as a lawyer and activist for peace through the story of young artist Will\, who is the victim of apartheid in South Africa.\nFrench writers Alicia Sebrien and Jean-Pierre Hadida said in creating Madiba The Musical\, they wanted to tell the story of Mandela’s pursuit of peace and reconciliation in his homeland. \n
URL:https://www.skip.co.nz/event/madiba-the-musical-a-celebration-of-nelson-mandelas-life-3/
LOCATION:145 Gloucester St\, Christchurch Central\,\, Christchurch\, New Zealand
END:VEVENT
END:VCALENDAR