BEGIN:VCALENDAR
VERSION:2.0
PRODID:-//Skip Ink - ECPv6.6.4.2//NONSGML v1.0//EN
CALSCALE:GREGORIAN
METHOD:PUBLISH
X-ORIGINAL-URL:https://www.skip.co.nz
X-WR-CALDESC:Events for Skip Ink
REFRESH-INTERVAL;VALUE=DURATION:PT1H
X-Robots-Tag:noindex
X-PUBLISHED-TTL:PT1H
BEGIN:VTIMEZONE
TZID:Pacific/Auckland
BEGIN:STANDARD
TZOFFSETFROM:+1300
TZOFFSETTO:+1200
TZNAME:NZST
DTSTART:20260404T140000
END:STANDARD
BEGIN:DAYLIGHT
TZOFFSETFROM:+1200
TZOFFSETTO:+1300
TZNAME:NZDT
DTSTART:20260926T140000
END:DAYLIGHT
END:VTIMEZONE
BEGIN:VEVENT
DTSTART;TZID=Pacific/Auckland:20260226T193000
DTEND;TZID=Pacific/Auckland:20260308T170000
DTSTAMP:20260420T215512
CREATED:20250901T215044Z
LAST-MODIFIED:20250901T215046Z
UID:3070-1772134200-1772989200@www.skip.co.nz
SUMMARY:The Rocky Horror Show - Auckland
DESCRIPTION:Ready to thrill you with fun and naughty moments\, Richard O’Brien’s legendary rock ‘n’ roll musical celebrates 50 years of non-stop partying! The longest continuous run of a contemporary musical anywhere in the world\, The Rocky Horror Show has been seen by 35 million people and continues to delight audiences on its sell-out international tour. \nEveryone’s invited to join Brad and Janet for an adventure they’ll never forget\, featuring timeless classics including Sweet Transvestite\, Damn it Janet\, and of course\, the pelvic thrusting show stopping Time Warp.
URL:https://www.skip.co.nz/event/the-rocky-horror-show-auckland/
LOCATION:The Civic\, Cnr Queen & Wellesley Streets\, Aucland\, New Zealand
ATTACH;FMTTYPE=image/jpeg:https://www.skip.co.nz/wp-content/uploads/2025/09/RHS-2024_DMF0364.jpg
END:VEVENT
BEGIN:VEVENT
DTSTART;TZID=Pacific/Auckland:20260311T193000
DTEND;TZID=Pacific/Auckland:20260315T170000
DTSTAMP:20260420T215512
CREATED:20250901T215339Z
LAST-MODIFIED:20250901T215341Z
UID:3076-1773257400-1773594000@www.skip.co.nz
SUMMARY:The Rocky Horror Show - Christchurch
DESCRIPTION:Everyone’s invited to join Brad and Janet for an adventure they’ll never forget\, featuring timeless classics including Sweet Transvestite\, Damn it Janet\, and of course\, the pelvic thrusting show stopping Time Warp. \nReady to thrill you with fun and naughty moments\, Richard O’Brien’s legendary rock ‘n’ roll musical celebrates 50 years of non-stop partying! The longest continuous run of a contemporary musical anywhere in the world\, The Rocky Horror Show has been seen by 35 million people and continues to delight audiences on its sell-out international tour. \nEveryone’s invited to join Brad and Janet for an adventure they’ll never forget\, featuring timeless classics including Sweet Transvestite\, Dammit Janet\, and of course\, the pelvic thrusting show stopping Time Warp.
URL:https://www.skip.co.nz/event/the-rocky-horror-show-christchurch/
LOCATION:Isaac Theatre Royal\, 145 Gloucester St\, Christchurch Central\,\, Christchurch\, New Zealand
ATTACH;FMTTYPE=image/jpeg:https://www.skip.co.nz/wp-content/uploads/2025/09/RHS-2024_DMF0143.jpg
END:VEVENT
BEGIN:VEVENT
DTSTART;TZID=Pacific/Auckland:20260318T193000
DTEND;TZID=Pacific/Auckland:20260329T170000
DTSTAMP:20260420T215512
CREATED:20250901T215656Z
LAST-MODIFIED:20250901T215657Z
UID:3077-1773862200-1774803600@www.skip.co.nz
SUMMARY:The Rocky Horror Show - Wellington
DESCRIPTION:Ready to thrill you with fun and naughty moments\, Richard O’Brien’s legendary rock ‘n’ roll musical celebrates 50 years of non-stop partying! The longest continuous run of a contemporary musical anywhere in the world\, The Rocky Horror Show has been seen by 35 million people and continues to delight audiences on its sell-out international tour. \nEveryone’s invited to join Brad and Janet for an adventure they’ll never forget\, featuring timeless classics including Sweet Transvestite\, Dammit Janet\, and of course\, the pelvic thrusting show stopping Time Warp.
URL:https://www.skip.co.nz/event/the-rocky-horror-show-wellington/
LOCATION:St James Theatre Wellington
ATTACH;FMTTYPE=image/jpeg:https://www.skip.co.nz/wp-content/uploads/2025/09/RHS-2024_DMF1045.jpg
END:VEVENT
BEGIN:VEVENT
DTSTART;TZID=Pacific/Auckland:20260515T080000
DTEND;TZID=Pacific/Auckland:20260524T170000
DTSTAMP:20260420T215512
CREATED:20260413T222400Z
LAST-MODIFIED:20260413T222402Z
UID:3199-1778832000-1779642000@www.skip.co.nz
SUMMARY:Heathers the Musical - Christchurch
DESCRIPTION:“High School Musical’s darker\, dirtier cousin” – Sunday Express \n\n\nDirect from London and New York\, the wickedly funny Heathers the Musical is coming to New Zealand! \nWelcome to Westerberg High\, where Veronica Sawyer is just another of the nobodies dreaming of a better day. But when she’s unexpectedly taken under the wings of the three beautiful and impossibly cruel Heathers\, her dreams of popularity finally start to come true. That is until J.D.\, the mysterious teen rebel\, teaches her that it might kill to be a nobody\, but it is murder being a somebody. \nBased on the iconic movie starring Winona Ryder and Christian Slater\, Heathers the Musical is wickedly funny\, deliciously dark\, and full of BIG FUN. Set to a killer soundtrack\, don’t miss this cult classic – where popularity is a matter of life and death.
URL:https://www.skip.co.nz/event/heathers-the-musical-christchurch/
LOCATION:James Hay\, 86 Kilmore St\, Christchurch\, New Zealand
ATTACH;FMTTYPE=image/jpeg:https://www.skip.co.nz/wp-content/uploads/2026/04/PNC6123-2-937_FR-2.jpg
END:VEVENT
BEGIN:VEVENT
DTSTART;TZID=Pacific/Auckland:20260528T080000
DTEND;TZID=Pacific/Auckland:20260607T170000
DTSTAMP:20260420T215512
CREATED:20260413T222718Z
LAST-MODIFIED:20260413T222720Z
UID:3201-1779955200-1780851600@www.skip.co.nz
SUMMARY:Heathers the Musical - Wellington
DESCRIPTION:“High School Musical’s darker\, dirtier cousin” – Sunday Express \n\n\nDirect from London and New York\, the wickedly funny Heathers the Musical is coming to New Zealand! \nWelcome to Westerberg High\, where Veronica Sawyer is just another of the nobodies dreaming of a better day. But when she’s unexpectedly taken under the wings of the three beautiful and impossibly cruel Heathers\, her dreams of popularity finally start to come true. That is until J.D.\, the mysterious teen rebel\, teaches her that it might kill to be a nobody\, but it is murder being a somebody… \nBased on the iconic movie starring Winona Ryder and Christian Slater\, Heathers the Musical is wickedly funny\, deliciously dark\, and full of BIG FUN. Set to a killer soundtrack\, don’t miss this cult classic – where popularity is a matter of life and death.
URL:https://www.skip.co.nz/event/heathers-the-musical-wellington/
LOCATION:St James Theatre Wellington
ATTACH;FMTTYPE=image/jpeg:https://www.skip.co.nz/wp-content/uploads/2026/04/PNC6123-2-146_FR-2.jpg
END:VEVENT
BEGIN:VEVENT
DTSTART;TZID=Pacific/Auckland:20260610T080000
DTEND;TZID=Pacific/Auckland:20260614T170000
DTSTAMP:20260420T215512
CREATED:20260413T222942Z
LAST-MODIFIED:20260413T222943Z
UID:3205-1781078400-1781456400@www.skip.co.nz
SUMMARY:Heathers the Musical - Auckland
DESCRIPTION:“High School Musical’s darker\, dirtier cousin” – Sunday Express \n\n\nDirect from London and New York\, the wickedly funny Heathers the Musical is coming to New Zealand! \nWelcome to Westerberg High\, where Veronica Sawyer is just another of the nobodies dreaming of a better day. But when she’s unexpectedly taken under the wings of the three beautiful and impossibly cruel Heathers\, her dreams of popularity finally start to come true. That is until J.D.\, the mysterious teen rebel\, teaches her that it might kill to be a nobody\, but it is murder being a somebody… \nBased on the iconic movie starring Winona Ryder and Christian Slater\, Heathers the Musical is wickedly funny\, deliciously dark\, and full of BIG FUN. Set to a killer soundtrack\, don’t miss this cult classic – where popularity is a matter of life and death.
URL:https://www.skip.co.nz/event/heathers-the-musical-auckland/
LOCATION:The Civic\, Cnr Queen & Wellesley Streets\, Aucland\, New Zealand
ATTACH;FMTTYPE=image/jpeg:https://www.skip.co.nz/wp-content/uploads/2026/04/PNC6123-2-78_FR-2.jpg
END:VEVENT
BEGIN:VEVENT
DTSTART;TZID=Pacific/Auckland:20260923T080000
DTEND;TZID=Pacific/Auckland:20261011T170000
DTSTAMP:20260420T215512
CREATED:20260413T214109Z
LAST-MODIFIED:20260413T214111Z
UID:3197-1790150400-1791738000@www.skip.co.nz
SUMMARY:Matilda the Musical - Wellington
DESCRIPTION:Matilda The Musical is the multi-award winning musical inspired by the beloved book by the incomparable Roald Dahl. \n\n\nInspired by the twisted genius of Roald Dahl\, the Tony Award-winning Roald Dahl’s Matilda The Musical is the captivating masterpiece that revels in the anarchy of childhood\, the power of imagination and the inspiring story of a girl who dreams of a better life. With book by Dennis Kelly and original songs by Tim Minchin this musical is a winner of over 100 international awards and continues to thrill sold-out audiences of all ages around the world. \nMatilda is a little girl with astonishing wit\, intelligence and psychokinetic powers. She’s unloved by her cruel parents but impresses her schoolteacher Miss Honey. During her first term at school\, the two forge a bond as Miss Honey begins to recognize and appreciate Matilda’s extraordinary personality. Matilda’s school life isn’t completely smooth sailing\, however – the school’s mean headmistress\, Miss Trunchbull\, hates children and just loves to punish those who don’t abide by her rules. But Matilda has courage and cleverness in equal amounts\, and could be the school pupils’ saving grace! \nPacked with high-energy dance numbers\, catchy songs and an unforgettable star turn for a young actress\, Matilda is a joyous girl power romp. Children and adults alike will be thrilled and delighted by the story of the special little girl with an extraordinary imagination. \nFeaturing an all local cast\, including some of New Zealand’s most talented child performers\, Matilda will be the show to see in Wellington 2026!
URL:https://www.skip.co.nz/event/matilda-the-musical-wellington/
LOCATION:St James Theatre Wellington
ATTACH;FMTTYPE=image/jpeg:https://www.skip.co.nz/wp-content/uploads/2026/04/Revolting-children-the-gates-13.jpg
END:VEVENT
BEGIN:VEVENT
DTSTART;TZID=Pacific/Auckland:20261021T080000
DTEND;TZID=Pacific/Auckland:20261108T170000
DTSTAMP:20260420T215512
CREATED:20260413T212510Z
LAST-MODIFIED:20260413T212513Z
UID:3192-1792569600-1794157200@www.skip.co.nz
SUMMARY:Jesus Christ Superstar - Auckland
DESCRIPTION:Following acclaimed and sold-out runs in London as well as an extensive tour of North America\, the UK\, and Australia\, the Olivier Award-winning reimagined production of Tim Rice and Andrew Lloyd Webber celebrated musical JESUS CHRIST SUPERSTAR will play in Auckland\, Wellington and Christchurch this October through to December\, as part of a major international tour. \nFeaturing lyrics and music by Emmy\, GRAMMY\, Oscar\, and Tony winners Tim Rice and Andrew Lloyd Webber\, this production was reimagined by London’s Regent’s Park Open Air Theatre\, where it originated\, and is helmed by director Timothy Sheader and choreographer Drew McOnie.  Completing the creative team is design by Tom Scutt\, lighting design by Lee Curran\, sound design by Nick Lidster\, and music supervision by Tom Deering. \nA global phenomenon that has wowed audiences for decades\, JESUS CHRIST SUPERSTAR is a timeless work that explores the biblical portrayal of the extraordinary events that led to the death and resurrection of Jesus Christ as seen through the eyes of his betrayer\, Judas Iscariot. The story\, told entirely through song\, explores the personal relationships and struggles among Jesus\, Judas\, Mary Magdalene\, Jesus’ disciples\, his followers and the Roman Empire. Originally released as a concept album\, the iconic 1970s rock score contains such well-known numbers as ‘Superstar’\, ‘I Don’t Know How to Love Him’\, and ‘Gethsemane’.
URL:https://www.skip.co.nz/event/jesus-christ-superstar-auckland/
LOCATION:The Civic\, Cnr Queen & Wellesley Streets\, Aucland\, New Zealand
ATTACH;FMTTYPE=image/jpeg:https://www.skip.co.nz/wp-content/uploads/2026/02/Jack-Hopewell-Elvie-Ellis-and-the-company-of-the-North-American-Tour-of-Jesus-Christ-Superstar.-Photo-by-Evan-Zimmerman-for-MurphyMade.jpg
END:VEVENT
BEGIN:VEVENT
DTSTART;TZID=Pacific/Auckland:20261118T080000
DTEND;TZID=Pacific/Auckland:20261128T170000
DTSTAMP:20260420T215512
CREATED:20260413T212836Z
LAST-MODIFIED:20260413T212837Z
UID:3193-1794988800-1795885200@www.skip.co.nz
SUMMARY:Jesus Christ Superstar - Wellington
DESCRIPTION:Following acclaimed and sold-out runs in London as well as an extensive tour of North America\, the UK\, and Australia\, the Olivier Award-winning reimagined production of Tim Rice and Andrew Lloyd Webber celebrated musical JESUS CHRIST SUPERSTAR will play in Auckland\, Wellington and Christchurch this October through to December\, as part of a major international tour. \nFeaturing lyrics and music by Emmy\, GRAMMY\, Oscar\, and Tony winners Tim Rice and Andrew Lloyd Webber\, this production was reimagined by London’s Regent’s Park Open Air Theatre\, where it originated\, and is helmed by director Timothy Sheader and choreographer Drew McOnie.  Completing the creative team is design by Tom Scutt\, lighting design by Lee Curran\, sound design by Nick Lidster\, and music supervision by Tom Deering. \nA global phenomenon that has wowed audiences for decades\, JESUS CHRIST SUPERSTAR is a timeless work that explores the biblical portrayal of the extraordinary events that led to the death and resurrection of Jesus Christ as seen through the eyes of his betrayer\, Judas Iscariot. The story\, told entirely through song\, explores the personal relationships and struggles among Jesus\, Judas\, Mary Magdalene\, Jesus’ disciples\, his followers and the Roman Empire. Originally released as a concept album\, the iconic 1970s rock score contains such well-known numbers as ‘Superstar’\, ‘I Don’t Know How to Love Him’\, and ‘Gethsemane’.
URL:https://www.skip.co.nz/event/jesus-christ-superstar-wellington/
LOCATION:St James Theatre Wellington
ATTACH;FMTTYPE=image/jpeg:https://www.skip.co.nz/wp-content/uploads/2026/04/Elvie-Ellis-and-the-company-of-the-North-American-Tour-of-Jesus-Christ-Superstar.-Photo-by-Evan-Zimmerman-for-MurphyMade-2.jpg
END:VEVENT
BEGIN:VEVENT
DTSTART;TZID=Pacific/Auckland:20261202T080000
DTEND;TZID=Pacific/Auckland:20261206T170000
DTSTAMP:20260420T215512
CREATED:20260413T213010Z
LAST-MODIFIED:20260413T213212Z
UID:3196-1796198400-1796576400@www.skip.co.nz
SUMMARY:Jesus Christ Superstar - Christchurch
DESCRIPTION:Following acclaimed and sold-out runs in London as well as an extensive tour of North America\, the UK\, and Australia\, the Olivier Award-winning reimagined production of Tim Rice and Andrew Lloyd Webber celebrated musical JESUS CHRIST SUPERSTAR will play in Auckland\, Wellington and Christchurch this October through to December\, as part of a major international tour. \nFeaturing lyrics and music by Emmy\, GRAMMY\, Oscar\, and Tony winners Tim Rice and Andrew Lloyd Webber\, this production was reimagined by London’s Regent’s Park Open Air Theatre\, where it originated\, and is helmed by director Timothy Sheader and choreographer Drew McOnie.  Completing the creative team is design by Tom Scutt\, lighting design by Lee Curran\, sound design by Nick Lidster\, and music supervision by Tom Deering. \nA global phenomenon that has wowed audiences for decades\, JESUS CHRIST SUPERSTAR is a timeless work that explores the biblical portrayal of the extraordinary events that led to the death and resurrection of Jesus Christ as seen through the eyes of his betrayer\, Judas Iscariot. The story\, told entirely through song\, explores the personal relationships and struggles among Jesus\, Judas\, Mary Magdalene\, Jesus’ disciples\, his followers and the Roman Empire. Originally released as a concept album\, the iconic 1970s rock score contains such well-known numbers as ‘Superstar’\, ‘I Don’t Know How to Love Him’\, and ‘Gethsemane’.
URL:https://www.skip.co.nz/event/jesus-christ-superstar-christchurch/
LOCATION:Isaac Theatre Royal\, 145 Gloucester St\, Christchurch Central\,\, Christchurch\, New Zealand
ATTACH;FMTTYPE=image/jpeg:https://www.skip.co.nz/wp-content/uploads/2026/04/The-North-American-Tour-company-of-Jesus-Christ-Superstar.-Photo-by-Evan-Zimmerman-for-MurphyMade-1.jpg
END:VEVENT
END:VCALENDAR