BEGIN:VCALENDAR
VERSION:2.0
PRODID:-//Skip Ink - ECPv6.6.4.2//NONSGML v1.0//EN
CALSCALE:GREGORIAN
METHOD:PUBLISH
X-WR-CALNAME:Skip Ink
X-ORIGINAL-URL:https://www.skip.co.nz
X-WR-CALDESC:Events for Skip Ink
REFRESH-INTERVAL;VALUE=DURATION:PT1H
X-Robots-Tag:noindex
X-PUBLISHED-TTL:PT1H
BEGIN:VTIMEZONE
TZID:Pacific/Auckland
BEGIN:STANDARD
TZOFFSETFROM:+1300
TZOFFSETTO:+1200
TZNAME:NZST
DTSTART:20180331T140000
END:STANDARD
BEGIN:DAYLIGHT
TZOFFSETFROM:+1200
TZOFFSETTO:+1300
TZNAME:NZDT
DTSTART:20180929T140000
END:DAYLIGHT
END:VTIMEZONE
BEGIN:VEVENT
DTSTART;TZID=Pacific/Auckland:20181128T193000
DTEND;TZID=Pacific/Auckland:20181202T193000
DTSTAMP:20260425T030607
CREATED:20180607T231418Z
LAST-MODIFIED:20180607T231652Z
UID:282-1543433400-1543779000@www.skip.co.nz
SUMMARY:Peter Pan Goes Wrong- Christchurch
DESCRIPTION:Nominated for an Olivier Award for Best New Comedy\, Peter Pan Goes Wrong turns the J.M. Barrie classic\, Peter Pan\, into ‘a joyous masterclass of physical comedy and general disaster’ (London Evening Standard). \nChristchurch | Isaac Theatre Royal | 28 Nov – 2 Dec | Tickets: Ticketek \n\nBooking fee may apply
URL:https://www.skip.co.nz/event/peter-pan-goes-wrong-2-2/
ATTACH;FMTTYPE=image/jpeg:https://www.skip.co.nz/wp-content/uploads/2018/06/PP_650x280_WEB-BANNER.jpg
END:VEVENT
BEGIN:VEVENT
DTSTART;TZID=Pacific/Auckland:20181211T200000
DTEND;TZID=Pacific/Auckland:20181211T220000
DTSTAMP:20260425T030607
CREATED:20180607T223606Z
LAST-MODIFIED:20180607T223835Z
UID:275-1544558400-1544565600@www.skip.co.nz
SUMMARY:The Kevin Hart Irresponsible Tour
DESCRIPTION:Kevin Hart is bringing his widely successful and massively hysterical ‘The Kevin Hart Irresponsible Tour\,’ to New Zealand in 2018 and will perform 360º in-the-round – a first for a stand-up comedy tour of this scale. \nHart’s last tour What Now sold out large venues across the world\, including Kevin being the first comedian to sell out an NFL stadium\, selling over 50\,000 tickets in one show at Lincoln Financial Field. \nHe sold out over a dozen arenas in the European market\, selling over 150\,000 tickets\, and sold out arenas across Australia\, selling 100\,000 tickets. Hart’s hit comedy tour grossed over $100 million worldwide. \n2017 was a banner year for Hart\, his memoir I Can’t Make This Up: Life Lessons debuted at Number One on the New York Times Bestseller list and remained on the list for 10 consecutive weeks. The book also topped records on the Audible platform\, selling over 100\,000 copies in the first five weeks. \nLast year Kevin also appeared in the Sony reboot of the classic film Jumanji alongside Dwayne “The Rock” Johnson and Jack Black. Jumanji has been Kevin’s highest grossing box office release to date. \nThe movie has made over $800 million worldwide. \nHart launched digital comedy streaming service\, LOL Network (Laugh Out Loud)\, to promote new comedians\, develop scripted and unscripted comedies and stand-up specials last year\, in partnership global content leader Lionsgate. \nKevin Hart is one of the most followed people on social media with 100+ million followers. His Irresponsible New Zealand will sell out. Book now! \nRecommended for audiences 16+. Times subject to change. \nAbout Live Nation Entertainment:\nLive Nation Entertainment (NYSE: LYV) is the world’s leading live entertainment company comprised of global market leaders: Ticketmaster\, Live Nation Concerts\, Live Nation Advertising & Sponsorship and Artist Nation Management. \nFor additional information\, visit www.livenationentertainment.com.
URL:https://www.skip.co.nz/event/the-kevin-hart-irresponsible-tour/
LOCATION:Spark Arena\, 42 Mahuhu Cres\, CBD\, Auckland\, New Zealand
ATTACH;FMTTYPE=image/jpeg:https://www.skip.co.nz/wp-content/uploads/2018/05/Kevin_Hart_National_1280x768.jpg
END:VEVENT
END:VCALENDAR